Workbook
Name asdep: #REF!
Name Eli: #REF!
Name fajar: #REF!
Name kegiatan: #REF!
Name KRITERIA: INDIRECT('[1]Evaluasi kual'!$G$27)
Name POLAKUAL: INDIRECT([2]Evaluasi!$A$15)
Name s: #REF!
Name sfsdf: #REF!

Sheet SKP Pegawai
A1: SASARAN KINERJA PEGAWAI
A2: PENDEKATAN HASIL KERJA KUALITATIF
A3: BAGI PEJABAT ADMINISTRASI/ FUNGSIONAL
B5: KEMDIKBUDRISTEK | F5: PERIODE PENILAIAN: 1 JANUARI SD 31 DESEMBER TAHUN 2023
A6: NO | B6: PEGAWAI YANG DINILAI | D6: NO | E6: PEJABAT PENILAI KINERJA
A7: 1 | B7: NAMA | C7: Nama Dosen Yang dinilai | D7: 1 | E7: NAMA | F7: Nama Penilai | G7: DPK | H7: Kepala LLDIKTI
A8: 2 | B8: NIP /NIDN | C8: NIP boleh kosong/00101016702 | D8: 2 | E8: NIP (*opsional)/NIDN | F8: 196306041989031022/00105168703 | G8: DTS | H8: Kaprodi/Pembantu Direktur
A9: 3 | B9: PANGKAT/ GOL. RUANG | C9: Inpassingnya apa | D9: 3 | E9: PANGKAT/ GOL. RUANG | F9: Pembina Utama Madia, IV/b
A10: 4 | B10: JABATAN | C10: Jabatan Fungsionalnya apa | D10: 4 | E10: JABATAN | F10: Kepala LLDIKTI | G10: Jabatan | H10: Kaprodi Manajemen/Pembantu Sirektur
A11: 5 | B11: UNIT KERJA | C11: Nama Kampusnya | D11: 5 | E11: UNIT KERJA | F11: LLDIKTI
A12: HASIL KERJA
A13: A. UTAMA
A14: 1 | B14: Rencana Pembelajaran Semester (RPS) disusun sesuai dengan kurikulum dan jumlah mata kuliah yang diampu (Penugasan dari Pimpinan PTS)
B15: Ukuran keberhasilan/ Indikator Kinerja Individu, Target : - Jumlah RPS sebanyak 4 set, sesuai dengan mata kuliah yang diampu - Dokumen RPS tersedia lengkap dan sesuai dengan petunjuk penyusunan | G15: jumlah yang di bikin atau dokumen rps yang tersedia
A16: 2 | B16: Pengajaran mata kuliah …………………………….. sesuai dengan RPS dan tepat waktu (Penugasan dari Pimpinan PTS) | G16: di tulis mata kuliah yang di ajarkan
B17: Ukuran keberhasilan/ Indikator Kinerja Individu, Target : - Perkuliahan dilaksanakan 16 kali pertemuan per semester - Dokumen hasil perkuliahan tersedia lengkap | G17: BAP, Absensi materi pelaksanaan kuliah berapa kali
A18: 3 | B18: Hasil Bimbingan mahasiswa di bidang akademik sesuai dengan petunjuk teknis dan tepat waktu (Penugasan dari Pimpinan PTS)
B19: Ukuran keberhasilan/ Indikator Kinerja Individu, Target : - Jumlah mahasiswa yang mendapat bimbingan akademik sebanyak 50 mahasiswa - KRS mahasiswa di portal akademik telah diperiksa dan disetujui | G19: jumlah mahasiswa perwalian, KRS mahasiswa
A20: 4 | B20: Hasil bimbingan tugas akhir mahasiswa sesuai panduan penulisan tugas akhir dan tepat waktu (Penugasan dari Pimpinan PTS)
B21: Ukuran keberhasilan/ Indikator Kinerja Individu, Target : - Jumlah mahasiswa yang dibimbing sebanyak 5 mahasiswa - Bimbingan dilaksanakan satu minggu 1 kali
A22: 5 | B22: Hasil visitasi ke lokasi Kuliah Kerja Nyata (KKN) sesuai surat penugasan (Penugasan dari Pimpinan PTS)
B23: Ukuran keberhasilan/ Indikator Kinerja Individu, Target : - Jumlah mahasiswa yang mendapat visitasi sebanyak 6 mahasiswa - Laporan hasil visitasi tersedia lengkap - Visitasi dilaksanakan satu minggu 2 kali
A24: 6 | B24: Keluaran penelitian yang telah dipublikasikan (Penugasan dari Pimpinan PTS)
B25: Ukuran keberhasilan/ Indikator Kinerja Individu, Target : - Artikel yang dimuat dalam Jurnal Internasional berindeks Scopus sebanyak 1 Jurnal - Artikel yang dimuat dalam Jurnal Nasional berindeks SINTA-4 sebanyak 1 Jurnal - Artikel yang dimuat dalam Prosiding Internasional berindeks WOS sebanyak 1 Prosiding | G25: jabarkan jurnal/penelitian yang telah dibuat
A26: 7 | B26: Hasil Pengabdian kepada masyarakat sesuai bidang keahlian (Penugasan dari Pimpinan PTS)
B27: Ukuran keberhasilan/ Indikator Kinerja Individu, Target : - Bimbingan Teknis kepada masyarakat mengenai identifikasi potensi untuk pendirian badan usaha sesuai materi, dan tepat waktu - Dokumen hasil pelaksanaan bimbingan teknis tersedia lengkap | G27: isi judul pengmas, dokumennya wujudnya apa/hasil pengmasnya
A28: 8 | B28: Hasil keterlibatan aktif dalam pertemuan ilmiah sesuai bidang ilmu (Penugasan dari Pimpinan PTS)
B29: Ukuran keberhasilan/ Indikator Kinerja Individu, Target : - Memperoleh sertifikat seminar internasional
A31: B. TAMBAHAN
A32: 1 | B32: (Hasil yang diharapkan dengan prioritas rendah disertai dengan Jabatan Pimpinan yang memberikan penugasan)
B33: Ukuran keberhasilan/ Indikator Kinerja Individu, Target :
A34: 2 | B34: (Hasil yang diharapkan dengan prioritas rendah disertai dengan Jabatan Pimpinan yang memberikan penugasan)
B35: Ukuran keberhasilan/ Indikator Kinerja Individu, Target :
A36: PERILAKU KERJA*
A37: 1 | B37: Berorientasi pelayanan
B38: - Memahami dan memenuhi kebutuhan masyarakat | E38: Ekspektasi Khusus Pimpinan:
B39: - Ramah, cekatan, solutif, dan dapat diandalkan | E39: boleh kosong/boleh di isi sesuai dengan ekspetasi pimpinan : contoh unruk memberikan pelayanan harus tepat waktu, pelayanan harus 24 jam
B40: - Melakukan perbaikan tiada henti
A41: 2 | B41: Akuntabel
B42: - Melaksanakan tugas dengan jujur, bertanggung jawab, cermat, disiplin, dan berintegritas tinggi | E42: Ekspektasi Khusus Pimpinan:
...

Sheet Lampiran SKP
A1: LAMPIRAN SASARAN KINERJA PEGAWAI
A3: DUKUNGAN SUMBER DAYA
A4: 1 | B4: Dukungan sarana administrasi yang memadai (printer, tinta, kertas, post it…) | D4: misal butuh priter, koneksi internet, butuh dukungan sarana prasarana mendukung perkuliahan
A5: 2 | B5: Dukungan sarana prasarana pengajaran yang memadai | D5: contoh butuh labaoran atau sarana yang memadahi
A6: 3 | B6: Dukungan pimpinan dalam pengambilan kebijakan internal
A7: 4 | B7: Dukungan dari pimpinan Perguruan Tinggi | D7: terkait kurikulum dsbnya
A8: SKEMA PERTANGGUNGJAWABAN
A9: 1 | B9: Daftar kehadiran mengajar diserahkan ke Program Studi setiap akhir semester | D9: misal BAP, Presensi, Materi perkuliahan, Silabus, Buku Ajar, Panduan Prktikum tersedia Lengkap
A10: 2 | B10: Dokumen pencapaian sasaran kinerja diserahkan ke Program Studi
A11: 3
A12: KONSEKUENSI
A13: 1 | B13: Rekomendasi peringkat hasil kerja akan kurang apabila tidak sesuai dengan ekspektasi | D13: boleh di isi boleh tidak
A14: 2
C16: Yogyakarta, 30 Desember 2023 | D16: tanggal bebas tapi mendekati akhir tahun, bulannya harus desember 2023
B17: Pegawai yang Dinilai | C17: Pejabat Penilai Kinerja
B21: ='SKP Pegawai'!B71 -> Nama Dosen Yang dinilai | C21: ='SKP Pegawai'!E71 -> Nama Penilai
B22: ='SKP Pegawai'!B72 -> NIP NIP boleh kosong/00101016702 | C22: ='SKP Pegawai'!E72 -> NIP196306041989031022/00105168703

Sheet Evaluasi Pegawai
A1: EVALUASI KINERJA PEGAWAI
A2: PENDEKATAN HASIL KERJA KUALITATIF
A3: BAGI PEJABAT ADMINISTRASI DAN PEJABAT FUNGSIONAL
A5: PERIODE: TRIWULAN I/II/III/IV-AKHIR*
A6: ='SKP Pegawai'!B5 -> KEMDIKBUDRISTEK | G6: ='SKP Pegawai'!F5 -> PERIODE PENILAIAN: 1 JANUARI SD 31 DESEMBER TAHUN 2023
A7: NO. | B7: PEGAWAI YANG DINILAI | G7: NO. | H7: PEJABAT PENILAI KINERJA
A8: 1 | B8: NAMA | D8: ='SKP Pegawai'!C7 -> Nama Dosen Yang dinilai | G8: 1 | H8: NAMA | J8: ='SKP Pegawai'!F7 -> Nama Penilai
A9: 2 | B9: NIP | D9: ='SKP Pegawai'!C8 -> NIP boleh kosong/00101016702 | G9: 2 | H9: NIP | J9: ='SKP Pegawai'!F8 -> 196306041989031022/00105168703
A10: 3 | B10: PANGKAT/GOL. RUANG | D10: ='SKP Pegawai'!C9 -> Inpassingnya apa | G10: 3 | H10: PANGKAT/GOL. RUANG | J10: ='SKP Pegawai'!F9 -> Pembina Utama Madia, IV/b
A11: 4 | B11: JABATAN | D11: ='SKP Pegawai'!C10 -> Jabatan Fungsionalnya apa | G11: 4 | H11: JABATAN | J11: ='SKP Pegawai'!F10 -> Kepala LLDIKTI
A12: 5 | B12: UNIT KERJA | D12: ='SKP Pegawai'!C11 -> Nama Kampusnya | G12: 5 | H12: INSTANSI | J12: ='SKP Pegawai'!F11 -> LLDIKTI
A13: CAPAIAN KINERJA ORGANISASI*
A14: SANGAT KURANG | L14: ini berdasarkan capaian kinerja pimpinannya masing-masing, capaian program kerjanya terpenuhi atau tidak di pilih disini
A15: POLA DISTRIBUSI:
A17: HASIL KERJA | I17: REALISASI BERDASARKAN BUKTI DUKUNG (DARI DOSENNYA/YANG DINILAI) | K17: UMPAN BALIK BERKELANJUTAN BERDASARKAN BUKTI DUKUNG (DI ISI ATASANNYA/PENILAINYA) | L17: HASIL KERJA (DARI ATASANNYA/PENILAINYA) 1-Dibawah Ekspektasi 2- Sesuai Ekspektasi 3- diatas Ekspektasi | M17: Angka
A18: A. UTAMA
A19: 1 | B19: ='SKP Pegawai'!B14:F14 -> Rencana Pembelajaran Semester (RPS) disusun sesuai dengan kurikulum dan jumlah mata kuliah yang diampu (Penugasan dari Pimpinan PTS) | I19: 4 set RPS sesuai mata kuliah yang diampu telah diselesaikan tepat waktu | K19: Sudah baik dan pengelolaan waktu sudah sesuai dengan jadwal (DI ISI OLEH ATASANNYA/PENILAI) | L19: DIBAWAH EKSPEKTASI | M19: =IFERROR(VLOOKUP(L19,PD!$B$13:$C$15,2,0),"") -> 1
B20: ='SKP Pegawai'!B15:F15 -> Ukuran keberhasilan/ Indikator Kinerja Individu, Target : - Jumlah RPS sebanyak 4 set, sesuai dengan mata kuliah yang diampu - Dokumen RPS tersedia lengkap dan sesuai dengan petunjuk penyusunan
A21: 2 | B21: ='SKP Pegawai'!B16:F16 -> Pengajaran mata kuliah …………………………….. sesuai dengan RPS dan tepat waktu (Penugasan dari Pimpinan PTS) | I21: Perkuliahan dilaksanakan 16 kali pertemuan per sesmester sudah dilaksanakan | K21: sudah baik, pertahankan dan tingkatkan | L21: DIBAWAH EKSPEKTASI | M21: =IFERROR(VLOOKUP(L21,PD!$B$13:$C$15,2,0),"") -> 1
B22: ='SKP Pegawai'!B17:F17 -> Ukuran keberhasilan/ Indikator Kinerja Individu, Target : - Perkuliahan dilaksanakan 16 kali pertemuan per semester - Dokumen hasil perkuliahan tersedia lengkap
A23: 3 | B23: ='SKP Pegawai'!B18:F18 -> Hasil Bimbingan mahasiswa di bidang akademik sesuai dengan petunjuk teknis dan tepat waktu (Penugasan dari Pimpinan PTS) | I23: Semua mahasiswa telah mengikuti kegiatan perwalian KRS di awal semester | K23: sudah baik, pertahankan | L23: DIBAWAH EKSPEKTASI | M23: =IFERROR(VLOOKUP(L23,PD!$B$13:$C$15,2,0),"") -> 1
B24: ='SKP Pegawai'!B19:F19 -> Ukuran keberhasilan/ Indikator Kinerja Individu, Target : - Jumlah mahasiswa yang mendapat bimbingan akademik sebanyak 50 mahasiswa - KRS mahasiswa di portal akademik telah diperiksa dan disetujui
A25: 4 | B25: ='SKP Pegawai'!B20:F20 -> Hasil bimbingan tugas akhir mahasiswa sesuai panduan penulisan tugas akhir dan tepat waktu (Penugasan dari Pimpinan PTS) | I25: Pembimbingan dilaksanakan sesuai rencana sehingga mahasiswa selesai kuliah tepat waktu | K25: sudah baik, pertahankan | L25: DIBAWAH EKSPEKTASI | M25: =IFERROR(VLOOKUP(L25,PD!$B$13:$C$15,2,0),"") -> 1
B26: ='SKP Pegawai'!B21:F21 -> Ukuran keberhasilan/ Indikator Kinerja Individu, Target : - Jumlah mahasiswa yang dibimbing sebanyak 5 mahasiswa - Bimbingan dilaksanakan satu minggu 1 kali
A27: 5 | B27: ='SKP Pegawai'!B22:F22 -> Hasil visitasi ke lokasi Kuliah Kerja Nyata (KKN) sesuai surat penugasan (Penugasan dari Pimpinan PTS) | I27: Kegiatan KKN telah dilaksanakan dan hasilnya bermanfaat bagi masyarakat | K27: sudah baik, pertahankan | L27: DIBAWAH EKSPEKTASI | M27: =IFERROR(VLOOKUP(L27,PD!$B$13:$C$15,2,0),"") -> 1
B28: ='SKP Pegawai'!B23:F23 -> Ukuran keberhasilan/ Indikator Kinerja Individu, Target : - Jumlah mahasiswa yang mendapat visitasi sebanyak 6 mahasiswa - Laporan hasil visitasi tersedia lengkap - Visitasi dilaksanakan satu minggu 2 kali
A29: 6 | B29: ='SKP Pegawai'!B24:F24 -> Keluaran penelitian yang telah dipublikasikan (Penugasan dari Pimpinan PTS) | I29: Semua jurnal telah terbit tepat waktu | K29: sudah baik, pertahankan | L29: DIBAWAH EKSPEKTASI | M29: =IFERROR(VLOOKUP(L29,PD!$B$13:$C$15,2,0),"") -> 1
B30: ='SKP Pegawai'!B25:F25 -> Ukuran keberhasilan/ Indikator Kinerja Individu, Target : - Artikel yang dimuat dalam Jurnal Internasional berindeks Scopus sebanyak 1 Jurnal - Artikel yang dimuat dalam Jurnal Nasional berindeks SINTA-4 sebanyak 1 Jurnal - Artikel yang dimuat dalam Prosiding Internasional berindeks WOS sebanyak 1 Prosiding
A31: 7 | B31: ='SKP Pegawai'!B26:F26 -> Hasil Pengabdian kepada masyarakat sesuai bidang keahlian (Penugasan dari Pimpinan PTS) | I31: Kegiatan pengabdian dilaksanakan di desa yang belum ada BUMDes | K31: sudah baik, pertahankan | L31: DIBAWAH EKSPEKTASI | M31: =IFERROR(VLOOKUP(L31,PD!$B$13:$C$15,2,0),"") -> 1
B32: ='SKP Pegawai'!B27:F27 -> Ukuran keberhasilan/ Indikator Kinerja Individu, Target : - Bimbingan Teknis kepada masyarakat mengenai identifikasi potensi untuk pendirian badan usaha sesuai materi, dan tepat waktu - Dokumen hasil pelaksanaan bimbingan teknis tersedia lengkap
A33: 8 | B33: ='SKP Pegawai'!B28:F28 -> Hasil keterlibatan aktif dalam pertemuan ilmiah sesuai bidang ilmu (Penugasan dari Pimpinan PTS) | I33: Kegiatan seminar yang diikuti seminar internasional yang narasumbernya dari 6 negara berbeda | K33: sudah baik, pertahankan | L33: DIBAWAH EKSPEKTASI | M33: =IFERROR(VLOOKUP(L33,PD!$B$13:$C$15,2,0),"") -> 1
B34: ='SKP Pegawai'!B29:F29 -> Ukuran keberhasilan/ Indikator Kinerja Individu, Target : - Memperoleh sertifikat seminar internasional
M35: =IFERROR(VLOOKUP(L35,PD!$B$13:$C$15,2,0),"")
A36: B. TAMBAHAN
A37: 1 | B37: ='SKP Pegawai'!B32:F32 -> (Hasil yang diharapkan dengan prioritas rendah disertai dengan Jabatan Pimpinan yang memberikan penugasan) | M37: =IFERROR(VLOOKUP(L37,PD!$B$13:$C$15,2,0),"")
B38: ='SKP Pegawai'!B33:F33 -> Ukuran keberhasilan/ Indikator Kinerja Individu, Target :
A39: 2 | B39: ='SKP Pegawai'!B34:F34 -> (Hasil yang diharapkan dengan prioritas rendah disertai dengan Jabatan Pimpinan yang memberikan penugasan) | M39: =IFERROR(VLOOKUP(L39,PD!$B$13:$C$15,2,0),"")
B40: ='SKP Pegawai'!B35:F35 -> Ukuran keberhasilan/ Indikator Kinerja Individu, Target :
A41: RATING HASIL KERJA* | L41: Rekomendasi | M41: =IFERROR(ROUND(AVERAGE(M19:M38),0),0) -> 1
A42: DI ATAS EKSPEKTASI | M42: =IF(M41=1,"DIBAWAH EKSPEKTASI",IF(M41=2,"SESUAI EKSPEKTASI",IF(M41=3,"DIATAS EKSPEKTASI"))) -> DIBAWAH EKSPEKTASI | N42: berubah sendiri
...

Sheet Dok.ev
A1: TIDAK ADA KEBERATAN NILAI KINERJA
A6: DOKUMEN EVALUASI KINERJA PEGAWAI
A8: PERIODE*: TRIWULAN I/II/III/IV-AKHIR**
A9: KEMENTERIAN PENDIDIKAN, KEBUDAYAAN, RISET, DAN TEKNOLOGI | C9: PERIODE PENILAIAN:
C10: 1 JANUARI S.D. 31 DESEMBER TAHUN 2023
A11: 1 | B11: PEGAWAI YANG DINILAI
B12: NAMA | C12: : | D12: ='Evaluasi Pegawai'!D8:F8 -> Nama Dosen Yang dinilai
B13: NIP | C13: : | D13: ='Evaluasi Pegawai'!D9:F9 -> NIP boleh kosong/00101016702
B14: PANGKAT/GOL. RUANG | C14: : | D14: ='Evaluasi Pegawai'!D10:F10 -> Inpassingnya apa
B15: JABATAN | C15: : | D15: ='Evaluasi Pegawai'!D11:F11 -> Jabatan Fungsionalnya apa
B16: UNIT KERJA | C16: : | D16: ='Evaluasi Pegawai'!D12:F12 -> Nama Kampusnya
A17: 2 | B17: PEJABAT PENILAI KINERJA
B18: NAMA | C18: : | D18: ='Evaluasi Pegawai'!J8 -> Nama Penilai
B19: NIP | C19: : | D19: ='Evaluasi Pegawai'!J9 -> 196306041989031022/00105168703
B20: PANGKAT/GOL. RUANG | C20: : | D20: ='Evaluasi Pegawai'!J10 -> Pembina Utama Madia, IV/b
B21: JABATAN | C21: : | D21: ='Evaluasi Pegawai'!J11 -> Kepala LLDIKTI
B22: UNIT KERJA | C22: : | D22: ='Evaluasi Pegawai'!J12 -> LLDIKTI
A23: 3 | B23: ATASAN PEJABAT PENILAI KINERJA
B24: NAMA | C24: : | D24: DIREKTURNYA
B25: NIP/ NIDN | C25: : | D25: NIP BOLEH KOSONG/00507116505
B26: PANGKAT/GOL. RUANG | C26: : | D26: Pembina Utama Madya, IV/d
B27: JABATAN | C27: : | D27: Deakan Faultas Ekonomi
B28: UNIT KERJA | C28: : | D28: =D22 -> LLDIKTI
A29: 4 | B29: EVALUASI KINERJA
B30: CAPAIAN KINERJA ORGANISASI | C30: : | D30: ='Evaluasi Pegawai'!A14 -> SANGAT KURANG
B31: PREDIKAT KINERJA PEGAWAI | C31: : | D31: ='Evaluasi Pegawai'!A75 -> BAIK
A32: 5 | B32: CATATAN/ REKOMENDASI
B34: 7. Yogyakarta, 30 Desember 2023 | D34: 6. Yogyakarta, 30 Desember 2023
B35: Pegawai yang dinilai | D35: Pejabat Penilai Kinerja,
B37: =D12 -> Nama Dosen Yang dinilai | D37: =D18 -> Nama Penilai
B38: ="NIP "&D13 -> NIP NIP boleh kosong/00101016702 | D38: ="NIP "&D19 -> NIP 196306041989031022/00105168703
B40: Mengetahui,
B41: Atasn Pejabat Penilai,
B44: =D24 -> DIREKTURNYA
B45: ="NIP"&D25 -> NIPNIP BOLEH KOSONG/00507116505

Sheet CD
A1: Istimewa | D1: Baik | G1: Butuh Perbaikan | J1: Kurang/Misconduct | M1: Sangat Kurang
A2: Kategori | B2: Pola Distribusi | D2: Kategori | E2: Pola Distribusi | G2: Kategori | H2: Pola Distribusi | J2: Kategori | K2: Pola Distribusi | M2: Kategori | N2: Pola Distribusi
A3: Sangat Kurang | B3: =B4*C3 -> 0 | C3: 0 | D3: Sangat Kurang | E3: =$E$8*F3 -> 3.3333333 | F3: 0.083333333 | G3: Sangat Kurang | H3: =$H$8*I3 -> 5 | I3: 0.125 | J3: Sangat Kurang | K3: =$K$8*L3 -> 3.3333333 | L3: 0.083333333 | M3: Sangat Kurang | N3: =$N$8*O3 -> 21.666667 | O3: 0.54166667
A4: Kurang/Misconduct | B4: =B5*C4 -> 0.032913773 | C4: 0.041666667 | D4: Kurang/Misconduct | E4: =$E$8*F4 -> 5 | F4: 0.125 | G4: Kurang/Misconduct | H4: =$H$8*I4 -> 6.6666667 | I4: 0.16666667 | J4: Kurang/Misconduct | K4: =$K$8*L4 -> 18.333333 | L4: 0.45833333 | M4: Kurang/Misconduct | N4: =$N$8*O4 -> 11.666667 | O4: 0.29166667
A5: Butuh Perbaikan | B5: =B6*C5 -> 0.78993056 | C5: 0.125 | D5: Butuh Perbaikan | E5: =$E$8*F5 -> 10 | F5: 0.25 | G5: Butuh Perbaikan | H5: =$H$8*I5 -> 16.666667 | I5: 0.41666667 | J5: Butuh Perbaikan | K5: =$K$8*L5 -> 10 | L5: 0.25 | M5: Butuh Perbaikan | N5: =$N$8*O5 -> 5 | O5: 0.125
A6: Baik | B6: =B7*C6 -> 6.3194444 | C6: 0.29166667 | D6: Baik | E6: =$E$8*F6 -> 18.333333 | F6: 0.45833333 | G6: Baik | H6: =$H$8*I6 -> 6.6666667 | I6: 0.16666667 | J6: Baik | K6: =$K$8*L6 -> 5 | L6: 0.125 | M6: Baik | N6: =$N$8*O6 -> 1.6666667 | O6: 0.041666667
A7: Sangat Baik | B7: =B8*C7 -> 21.666667 | C7: 0.54166667 | D7: Sangat Baik | E7: =$E$8*F7 -> 3.3333333 | F7: 0.083333333 | G7: Sangat Baik | H7: =$H$8*I7 -> 5 | I7: 0.125 | J7: Sangat Baik | K7: =$K$8*L7 -> 3.3333333 | L7: 0.083333333 | M7: Sangat Baik | N7: =$N$8*O7 -> 0 | O7: 0
A8: Jumlah | B8: =D22 -> 40 | D8: Jumlah | E8: =D22 -> 40 | G8: Jumlah | H8: =D22 -> 40 | J8: Jumlah | K8: =D22 -> 40 | M8: Jumlah | N8: =D22 -> 40
A22: ="JUMLAH PEGAWAI "&'SKP Pegawai'!C11 -> JUMLAH PEGAWAI Nama Kampusnya | D22: 40
F24: tuliskan jumlah dosen di PTS berserta DPKnya

Sheet K
A2: HASIL KERJA
A3: Di Atas Ekspektasi | B3: =D15 -> KURANG/MISS CONDUCT | C3: =D12 -> BAIK | D3: =D9 -> SANGAT BAIK
A4: Sesuai Ekspektasi | B4: =D16 -> KURANG/MISS CONDUCT | C4: =D13 -> BAIK | D4: =D10 -> BAIK
A5: Di Bawah Ekspektasi | B5: =D17 -> SANGAT KURANG | C5: =D14 -> BUTUH PERBAIKAN | D5: =D11 -> BUTUH PERBAIKAN | E5: PERILAKU KERJA
B6: Di Bawah Ekspektasi | C6: Sesuai Ekspektasi | D6: Di Atas Ekspektasi
A8: Hasil Kerja | B8: Perilaku Kerja | C8: Concatenate | D8: Hasil
A9: Di Atas Ekspektasi | B9: Di Atas Ekspektasi | C9: =CONCATENATE(A9,B9) -> Di Atas EkspektasiDi Atas Ekspektasi | D9: SANGAT BAIK
A10: Sesuai Ekspektasi | B10: Di Atas Ekspektasi | C10: =CONCATENATE(A10,B10) -> Sesuai EkspektasiDi Atas Ekspektasi | D10: BAIK
A11: Di Bawah Ekspektasi | B11: Di Atas Ekspektasi | C11: =CONCATENATE(A11,B11) -> Di Bawah EkspektasiDi Atas Ekspektasi | D11: BUTUH PERBAIKAN
A12: Di Atas Ekspektasi | B12: Sesuai Ekspektasi | C12: =CONCATENATE(A12,B12) -> Di Atas EkspektasiSesuai Ekspektasi | D12: BAIK
A13: Sesuai Ekspektasi | B13: Sesuai Ekspektasi | C13: =CONCATENATE(A13,B13) -> Sesuai EkspektasiSesuai Ekspektasi | D13: BAIK
A14: Di Bawah Ekspektasi | B14: Sesuai Ekspektasi | C14: =CONCATENATE(A14,B14) -> Di Bawah EkspektasiSesuai Ekspektasi | D14: BUTUH PERBAIKAN
A15: Di Atas Ekspektasi | B15: Di Bawah Ekspektasi | C15: =CONCATENATE(A15,B15) -> Di Atas EkspektasiDi Bawah Ekspektasi | D15: KURANG/MISS CONDUCT
A16: Sesuai Ekspektasi | B16: Di Bawah Ekspektasi | C16: =CONCATENATE(A16,B16) -> Sesuai EkspektasiDi Bawah Ekspektasi | D16: KURANG/MISS CONDUCT
A17: Di Bawah Ekspektasi | B17: Di Bawah Ekspektasi | C17: =CONCATENATE(A17,B17) -> Di Bawah EkspektasiDi Bawah Ekspektasi | D17: SANGAT KURANG
A18: Di Atas Ekspektasi | B18: Di Atas Ekspektasi | C18: =CONCATENATE(A18,B18) -> Di Atas EkspektasiDi Atas Ekspektasi | D18: SANGAT BAIK
A19: Di Atas Ekspektasi | B19: Sesuai Ekspektasi | C19: =CONCATENATE(A19,B19) -> Di Atas EkspektasiSesuai Ekspektasi | D19: BAIK
A20: Di Atas Ekspektasi | B20: Di Bawah Ekspektasi | C20: =CONCATENATE(A20,B20) -> Di Atas EkspektasiDi Bawah Ekspektasi | D20: KURANG/MISS CONDUCT
... A26: Di Bawah Ekspektasi | B26: Di Bawah Ekspektasi | C26: =CONCATENATE(A26,B26) -> Di Bawah EkspektasiDi Bawah Ekspektasi | D26: SANGAT KURANG

Sheet PD
A1: ='Evaluasi Pegawai'!A14 -> SANGAT KURANG | D1: Istimewa | E1: Baik | F1: Butuh Perbaikan | G1: Kurang/Missconduct | H1: Sangat Kurang
A2: Kategori | B2: ="KURVA DISTRIBUSIPREDIKAT KINERJA PEGAWAI DENGANCAPAIAN KINERJA ORGANISASI "&A1 -> KURVA DISTRIBUSIPREDIKAT KINERJA PEGAWAI DENGANCAPAIAN KINERJA ORGANISASI SANGAT KURANG | D2: Pola Distribusi | E2: Pola Distribusi | F2: Pola Distribusi | G2: Pola Distribusi | H2: Pola Distribusi
A3: Sangat Kurang | B3: =HLOOKUP($A$1,$D$1:$H$8,3,0) -> 21.666667 | D3: =CD!B3 -> 0 | E3: =CD!E3 -> 3.3333333 | F3: =CD!H3 -> 5 | G3: =CD!K3 -> 3.3333333 | H3: =CD!N3 -> 21.666667
A4: Kurang/ Misconduct | B4: =HLOOKUP($A$1,$D$1:$H$8,4,0) -> 11.666667 | D4: =CD!B4 -> 0.032913773 | E4: =CD!E4 -> 5 | F4: =CD!H4 -> 6.6666667 | G4: =CD!K4 -> 18.333333 | H4: =CD!N4 -> 11.666667
A5: Butuh Perbaikan | B5: =HLOOKUP($A$1,$D$1:$H$8,5,0) -> 5 | D5: =CD!B5 -> 0.78993056 | E5: =CD!E5 -> 10 | F5: =CD!H5 -> 16.666667 | G5: =CD!K5 -> 10 | H5: =CD!N5 -> 5
A6: Baik | B6: =HLOOKUP($A$1,$D$1:$H$8,6,0) -> 1.6666667 | D6: =CD!B6 -> 6.3194444 | E6: =CD!E6 -> 18.333333 | F6: =CD!H6 -> 6.6666667 | G6: =CD!K6 -> 5 | H6: =CD!N6 -> 1.6666667
A7: Sangat Baik | B7: =HLOOKUP($A$1,$D$1:$H$8,7,0) -> 0 | D7: =CD!B7 -> 21.666667 | E7: =CD!E7 -> 3.3333333 | F7: =CD!H7 -> 5 | G7: =CD!K7 -> 3.3333333 | H7: =CD!N7 -> 0
A8: Jumlah | B8: =SUM(B3:B7) -> 40
A12: HASIL KERJA
A13: 1 | B13: DIATAS EKSPEKTASI | C13: 3
A14: 2 | B14: SESUAI EKSPEKTASI | C14: 2
A15: 3 | B15: DIBAWAH EKSPEKTASI | C15: 1
